BEGIN:VCALENDAR
VERSION:2.0
PRODID:icalendar-ruby
CALSCALE:GREGORIAN
BEGIN:VEVENT
DTSTAMP:20260420T093104Z
UID:206ff08f-f68f-46e0-9450-8953e152b8ec
DTSTART;VALUE=DATE:20240605
DESCRIPTION:Property ID# 575693\, Locatoin: Unless Sold Prior\, Time: 12:00
 PM
SUMMARY:Auction for 
END:VEVENT
END:VCALENDAR
