BEGIN:VCALENDAR
VERSION:2.0
PRODID:icalendar-ruby
CALSCALE:GREGORIAN
BEGIN:VEVENT
DTSTAMP:20260420T093308Z
UID:0d0d672a-166b-42d4-959d-403d907dbb93
DTSTART;VALUE=DATE:20240515
DESCRIPTION:Property ID# 573818\, Locatoin: RAY WHITE Sandringham Ray White
  Office 3e Kitchener Road SANDRINGHAM\, Time: 2:00PM
SUMMARY:Auction for 
END:VEVENT
END:VCALENDAR
