BEGIN:VCALENDAR
VERSION:2.0
PRODID:icalendar-ruby
CALSCALE:GREGORIAN
BEGIN:VEVENT
DTSTAMP:20260425T020743Z
UID:95633f2a-680d-4f04-920b-39d3b2b8d437
DTSTART;VALUE=DATE:20210617
DESCRIPTION:Property ID# 510697\, Time: 2:00AM
SUMMARY:Auction for 
END:VEVENT
END:VCALENDAR
